BEGIN:VCALENDAR
VERSION:2.0
PRODID:SchoolNow
CALSCALE:GREGORIAN
BEGIN:VEVENT
UID:b2e4a3da-054e-11ea-8f29-0af9308a8cf1
DTSTAMP:20191112T131655Z
SUMMARY:CDD Board Meeting - Oct. 2019
LOCATION:Community Room\; Northern Trust Bank\; 6320 Venture Drive\; Lakewo
 od Ranch\, Florida\, 34202
URL;VALUE=URI:http://university-place-cdd.cdd-inf-university-place.campussu
 ite.site/calendar/2143396/cdd-board-meeting-oct-2019
DTSTART:20191023T193000Z
DTEND:20191023T203000Z
END:VEVENT
END:VCALENDAR
