BEGIN:VCALENDAR
VERSION:2.0
PRODID:SchoolNow
CALSCALE:GREGORIAN
BEGIN:VEVENT
UID:be0cdc50-054e-11ea-b810-0af9308a8cf1
DTSTAMP:20191112T131714Z
SUMMARY:CDD Board Meeting - Dec. 2019
LOCATION:Community Room\; Northern Trust Bank\; 6320 Venture Drive\; Lakewo
 od Ranch\, Florida\, 34202
URL;VALUE=URI:http://university-place-cdd.cdd-inf-university-place.campussu
 ite.site/calendar/2143397/cdd-board-meeting-dec-2019
DTSTART:20191204T203000Z
DTEND:20191204T213000Z
END:VEVENT
END:VCALENDAR
