BEGIN:VCALENDAR
VERSION:2.0
PRODID:SchoolNow
CALSCALE:GREGORIAN
BEGIN:VEVENT
UID:ca00d4ee-054e-11ea-a6f2-0af9308a8cf1
DTSTAMP:20200123T182448Z
SUMMARY:CDD Board Meeting - Jan. 2020
LOCATION:Community Room\; Northern Trust Bank\; 6320 Venture Drive\; Lakewo
 od Ranch\, Florida\, 34202
URL;VALUE=URI:http://university-place-cdd.cdd-inf-university-place.campussu
 ite.site/calendar/2143398/cdd-board-meeting-jan-2020
DTSTART:20200122T203000Z
DTEND:20200122T213000Z
ATTACH;FILENAME=2020-01-22 UP AGENDA PACKAGE.PDF;FMTTYPE=application/pdf:ht
 tps://campussuite-storage.s3.amazonaws.com/prod/1558957/0d729704-f059-11e9
 -93b6-12606da399aa/2037525/d76a9248-37a6-11ea-9be2-12b2c381b531/file/2020-
 01-22 UP AGENDA PACKAGE.PDF
ATTACH;FILENAME=2020-01-22 MEETING SUMMARY Ingrassia Notes.pdf;FMTTYPE=appl
 ication/pdf:https://campussuite-storage.s3.amazonaws.com/prod/1558957/0d72
 9704-f059-11e9-93b6-12606da399aa/2042450/a0956492-3e0d-11ea-b462-123369983
 4a1/file/2020-01-22 MEETING SUMMARY Ingrassia Notes.pdf
END:VEVENT
END:VCALENDAR
