BEGIN:VCALENDAR
VERSION:2.0
PRODID:SchoolNow
CALSCALE:GREGORIAN
BEGIN:VEVENT
UID:d77f09f6-054e-11ea-8c89-0af9308a8cf1
DTSTAMP:20200304T201702Z
SUMMARY:CDD Board Meeting - Feb. 2020
LOCATION:Community Room\; Northern Trust Bank\; 6320 Venture Drive\; Lakewo
 od Ranch\, Florida\, 34202
URL;VALUE=URI:http://university-place-cdd.cdd-inf-university-place.campussu
 ite.site/calendar/2143399/cdd-board-meeting-feb-2020
DTSTART:20200226T203000Z
DTEND:20200226T213000Z
ATTACH;FILENAME=2020-02-26 UNIVERSITY PLACE AGENDA PACKAGE.pdf;FMTTYPE=appl
 ication/pdf:https://campussuite-storage.s3.amazonaws.com/prod/1558957/0d72
 9704-f059-11e9-93b6-12606da399aa/2053824/347bfb64-533d-11ea-80eb-0a497481f
 1b1/file/2020-02-26 UNIVERSITY PLACE AGENDA PACKAGE.pdf
ATTACH;FILENAME=2020-02-26 Meeting Summary.pdf;FMTTYPE=application/pdf:http
 s://campussuite-storage.s3.amazonaws.com/prod/1558957/0d729704-f059-11e9-9
 3b6-12606da399aa/2059606/14d8c328-5e55-11ea-8407-12f540befd29/file/2020-02
 -26 Meeting Summary.pdf
END:VEVENT
END:VCALENDAR
