BEGIN:VCALENDAR
VERSION:2.0
PRODID:SchoolNow
CALSCALE:GREGORIAN
BEGIN:VEVENT
UID:e507f4ac-054e-11ea-8c45-0af9308a8cf1
DTSTAMP:20200511T161405Z
SUMMARY:CDD Board Meeting - Apr. 2020
LOCATION:Meeting-URL: https://zoom.us/j/855299340\, Meeting ID: 855-299-340
 \, Call-in-Number:(929)205-6099
URL;VALUE=URI:http://university-place-cdd.cdd-inf-university-place.campussu
 ite.site/calendar/2143400/cdd-board-meeting-apr-2020
DTSTART:20200422T193000Z
DTEND:20200422T203000Z
ATTACH;FILENAME=2020-04-22 UNIVERSITY PLACE AGENDA PACKAGE.pdf;FMTTYPE=appl
 ication/pdf:https://campussuite-storage.s3.amazonaws.com/prod/1558957/0d72
 9704-f059-11e9-93b6-12606da399aa/2085432/a2e88a66-83e6-11ea-b2e8-12eed0a27
 145/file/2020-04-22 UNIVERSITY PLACE AGENDA PACKAGE.pdf
ATTACH;FILENAME=2020-04-22 Summary Minutes for CDD Board Meeting.pdf;FMTTYP
 E=application/pdf:https://campussuite-storage.s3.amazonaws.com/prod/155895
 7/0d729704-f059-11e9-93b6-12606da399aa/2096001/658de80c-93a2-11ea-a3b9-125
 fccb6668d/file/2020-04-22 Summary Minutes for CDD Board Meeting.pdf
END:VEVENT
END:VCALENDAR
