BEGIN:VCALENDAR
VERSION:2.0
PRODID:SchoolNow
CALSCALE:GREGORIAN
BEGIN:VEVENT
UID:f30ce1c0-054e-11ea-9882-0af9308a8cf1
DTSTAMP:20200528T121037Z
SUMMARY:CDD Board Meeting - May 2020
LOCATION:Meeting-URL: https://zoom.us/j/742725400\, Meeting ID: 742-725-400
 \, Call-in Number: (929) 205-6099
URL;VALUE=URI:http://university-place-cdd.cdd-inf-university-place.campussu
 ite.site/calendar/2143401/cdd-board-meeting-may-2020
DTSTART:20200527T193000Z
DTEND:20200527T203000Z
ATTACH;FILENAME=2020-05-27 Summary Minutes for CDD Board Meeting.pdf;FMTTYP
 E=application/pdf:https://campussuite-storage.s3.amazonaws.com/prod/155895
 7/0d729704-f059-11e9-93b6-12606da399aa/2103983/3234d794-a0dc-11ea-b88a-120
 6e5199d7b/file/2020-05-27 Summary Minutes for CDD Board Meeting.pdf
END:VEVENT
END:VCALENDAR
