BEGIN:VCALENDAR
VERSION:2.0
PRODID:SchoolNow
CALSCALE:GREGORIAN
BEGIN:VEVENT
UID:ffbefaca-054e-11ea-a1df-0af9308a8cf1
DTSTAMP:20200617T164447Z
SUMMARY:CDD Board Meeting - Jun. 2020
LOCATION:Meeting ID: 848 1439 4423 Meeting URL: https://us02web.zoom.us/j/8
 4814394423 Zoom Call in Number: (929) 205-6099
URL;VALUE=URI:http://university-place-cdd.cdd-inf-university-place.campussu
 ite.site/calendar/2143402/cdd-board-meeting-jun-2020
DTSTART:20200624T193000Z
DTEND:20200624T203000Z
ATTACH;FILENAME=2020-06-24 UNIVERSITY PLACE CDD.pdf;FMTTYPE=application/pdf
 :https://campussuite-storage.s3.amazonaws.com/prod/1558957/0d729704-f059-1
 1e9-93b6-12606da399aa/2116418/d4b47bb8-b0b9-11ea-a9b8-0a9402fcfe21/file/20
 20-06-24 UNIVERSITY PLACE CDD.pdf
END:VEVENT
END:VCALENDAR
