BEGIN:VCALENDAR
VERSION:2.0
PRODID:SchoolNow
CALSCALE:GREGORIAN
BEGIN:VEVENT
UID:140fefe8-054f-11ea-a771-0af9308a8cf1
DTSTAMP:20200827T122205Z
SUMMARY:CDD Board Meeting - Aug. 2020
LOCATION:Hampton Inn and Suite by Hilton 8565 Cooper Creek Boulevard Saraso
 ta\, FL 34201   and  ZOOM - Meeting ID: 854 2639 1422 Meeting URL: https:/
 /us02web.zoom.us/j/85426391422 Call in number: (929) 205-6099
URL;VALUE=URI:http://university-place-cdd.cdd-inf-university-place.campussu
 ite.site/calendar/2143403/cdd-board-meeting-aug-2020
DTSTART:20200826T223000Z
DTEND:20200826T233000Z
ATTACH;FILENAME=2020-08-26 UNIVERSITY PLACE CDD AGENDA PACKAGE.pdf;FMTTYPE=
 application/pdf:https://campussuite-storage.s3.amazonaws.com/prod/1558957/
 0d729704-f059-11e9-93b6-12606da399aa/2147278/cacfc334-e226-11ea-9aff-0a225
 7fba02d/file/2020-08-26 UNIVERSITY PLACE CDD AGENDA PACKAGE.pdf
ATTACH;FILENAME=2020-08-26 Summary Minutes for CDD Board Meeting.pdf;FMTTYP
 E=application/pdf:https://campussuite-storage.s3.amazonaws.com/prod/155895
 7/0d729704-f059-11e9-93b6-12606da399aa/2151082/c38fea06-e85f-11ea-839b-0a6
 1b28829cd/file/2020-08-26 Summary Minutes for CDD Board Meeting.pdf
END:VEVENT
END:VCALENDAR
