BEGIN:VCALENDAR
VERSION:2.0
PRODID:SchoolNow
CALSCALE:GREGORIAN
BEGIN:VEVENT
UID:235a162c-054f-11ea-8896-0af9308a8cf1
DTSTAMP:20200924T101642Z
SUMMARY:CDD Board Meeting - Sep. 2020
LOCATION:Meeting ID: 896 4864 8958 Meeting URL: https://us02web.zoom.us/j/8
 9648648958 Call in number: (929) 436-2866
URL;VALUE=URI:http://university-place-cdd.cdd-inf-university-place.campussu
 ite.site/calendar/2143404/cdd-board-meeting-sep-2020
DTSTART:20200923T193000Z
DTEND:20200923T203000Z
ATTACH;FILENAME=2020-09-23 University Place CDD Regular Meeting Agenda.pdf;
 FMTTYPE=application/pdf:https://campussuite-storage.s3.amazonaws.com/prod/
 1558957/0d729704-f059-11e9-93b6-12606da399aa/2159433/f56122c2-f84d-11ea-ad
 af-0af66236e143/file/2020-09-23 University Place CDD Regular Meeting Agend
 a.pdf
ATTACH;FILENAME=2020-09-23 Summary Minutes for CDD Board Meeting.pdf;FMTTYP
 E=application/pdf:https://campussuite-storage.s3.amazonaws.com/prod/155895
 7/0d729704-f059-11e9-93b6-12606da399aa/2162922/04ec143e-fe4f-11ea-9947-128
 af1ccd813/file/2020-09-23 Summary Minutes for CDD Board Meeting.pdf
END:VEVENT
END:VCALENDAR
