BEGIN:VCALENDAR
VERSION:2.0
PRODID:SchoolNow
CALSCALE:GREGORIAN
BEGIN:VEVENT
UID:45774194-054f-11ea-b6c4-0af9308a8cf1
DTSTAMP:20191112T132101Z
SUMMARY:CDD Board Workshop - Oct. 2019
LOCATION:Community Room\; Northern Trust Bank\; 6320 Venture Drive\; Lakewo
 od Ranch\, Florida\, 34202
URL;VALUE=URI:http://university-place-cdd.cdd-inf-university-place.campussu
 ite.site/calendar/2143405/cdd-board-workshop-oct-2019
DTSTART:20191016T193000Z
DTEND:20191016T203000Z
END:VEVENT
END:VCALENDAR
