BEGIN:VCALENDAR
VERSION:2.0
PRODID:SchoolNow
CALSCALE:GREGORIAN
BEGIN:VEVENT
UID:639b5f84-054f-11ea-8fdd-0af9308a8cf1
DTSTAMP:20191112T132151Z
SUMMARY:CDD Board Workshop - Nov. 2019
LOCATION:Community Room\; Northern Trust Bank\; 6320 Venture Drive\; Lakewo
 od Ranch\, Florida\, 34202
URL;VALUE=URI:http://university-place-cdd.cdd-inf-university-place.campussu
 ite.site/calendar/2143406/cdd-board-workshop-nov-2019
DTSTART:20191120T203000Z
DTEND:20191120T213000Z
END:VEVENT
END:VCALENDAR
