BEGIN:VCALENDAR
VERSION:2.0
PRODID:SchoolNow
CALSCALE:GREGORIAN
BEGIN:VEVENT
UID:747e2aa2-054f-11ea-85f5-0af9308a8cf1
DTSTAMP:20191112T132220Z
SUMMARY:CDD Board Workshop - Jan. 2020
LOCATION:Community Room\; Northern Trust Bank\; 6320 Venture Drive\; Lakewo
 od Ranch\, Florida\, 34202
URL;VALUE=URI:http://university-place-cdd.cdd-inf-university-place.campussu
 ite.site/calendar/2143407/cdd-board-workshop-jan-2020
DTSTART:20200115T203000Z
DTEND:20200115T213000Z
END:VEVENT
END:VCALENDAR
