BEGIN:VCALENDAR
VERSION:2.0
PRODID:SchoolNow
CALSCALE:GREGORIAN
BEGIN:VEVENT
UID:83ff2558-054f-11ea-b367-0af9308a8cf1
DTSTAMP:20200217T012100Z
SUMMARY:CDD Board Workshop - Feb. 2020
LOCATION:Community Room\; Northern Trust Bank\; 6320 Venture Drive\; Lakewo
 od Ranch\, Florida\, 34202
URL;VALUE=URI:http://university-place-cdd.cdd-inf-university-place.campussu
 ite.site/calendar/2143408/cdd-board-workshop-feb-2020
DTSTART:20200219T203000Z
DTEND:20200219T213000Z
ATTACH;FILENAME=2020-02-19 UP Workshop.pdf;FMTTYPE=application/pdf:https://
 campussuite-storage.s3.amazonaws.com/prod/1558957/0d729704-f059-11e9-93b6-
 12606da399aa/2051204/f8b5ebc4-4db2-11ea-99c4-12958700fd63/file/2020-02-19 
 UP Workshop.pdf
END:VEVENT
END:VCALENDAR
