BEGIN:VCALENDAR
VERSION:2.0
PRODID:SchoolNow
CALSCALE:GREGORIAN
BEGIN:VEVENT
UID:92db4796-054f-11ea-8382-0af9308a8cf1
DTSTAMP:20200316T180807Z
SUMMARY:CDD Board Workshop - Mar. 2020 - Cancelled
LOCATION:Community Room\; Northern Trust Bank\; 6320 Venture Drive\; Lakewo
 od Ranch\, Florida\, 34202
URL;VALUE=URI:http://university-place-cdd.cdd-inf-university-place.campussu
 ite.site/calendar/2143409/cdd-board-workshop-mar-2020-cancelled
DTSTART:20200318T193000Z
DTEND:20200318T203000Z
ATTACH;FILENAME=2020-03-18 UP Workshop.pdf;FMTTYPE=application/pdf:https://
 campussuite-storage.s3.amazonaws.com/prod/1558957/0d729704-f059-11e9-93b6-
 12606da399aa/2064866/b1a8da28-6394-11ea-95fa-127d11815755/file/2020-03-18 
 UP Workshop.pdf
END:VEVENT
END:VCALENDAR
