BEGIN:VCALENDAR
VERSION:2.0
PRODID:SchoolNow
CALSCALE:GREGORIAN
BEGIN:VEVENT
UID:a0cf70ac-054f-11ea-8023-0af9308a8cf1
DTSTAMP:20200408T122052Z
SUMMARY:CDD Board Workshop - Apr. 2020
LOCATION:Meeting-URL: https://zoom.us/j/998423927\, Meeting ID: 998-423-927
 \, Call-in-Number:(929)205-6099
URL;VALUE=URI:http://university-place-cdd.cdd-inf-university-place.campussu
 ite.site/calendar/2143410/cdd-board-workshop-apr-2020
DTSTART:20200415T193000Z
DTEND:20200415T203000Z
ATTACH;FILENAME=2020-04-15 UP Workshop.pdf;FMTTYPE=application/pdf:https://
 campussuite-storage.s3.amazonaws.com/prod/1558957/0d729704-f059-11e9-93b6-
 12606da399aa/2079253/596f15ba-7993-11ea-afcb-0aa16655d5e5/file/2020-04-15 
 UP Workshop.pdf
END:VEVENT
END:VCALENDAR
