BEGIN:VCALENDAR
VERSION:2.0
PRODID:SchoolNow
CALSCALE:GREGORIAN
BEGIN:VEVENT
UID:b0608e8e-054f-11ea-8e07-0af9308a8cf1
DTSTAMP:20200513T145308Z
SUMMARY:CDD Board Workshop - May 2020
LOCATION:Meeting-URL: https://zoom.us/j/506444958   Meeting ID: 506-444-958
    Call-in Number: (929)205-6099
URL;VALUE=URI:http://university-place-cdd.cdd-inf-university-place.campussu
 ite.site/calendar/2143411/cdd-board-workshop-may-2020
DTSTART:20200520T193000Z
DTEND:20200520T203000Z
ATTACH;FILENAME=2020-05-20 UP Workshop (002).pdf;FMTTYPE=application/pdf:ht
 tps://campussuite-storage.s3.amazonaws.com/prod/1558957/0d729704-f059-11e9
 -93b6-12606da399aa/2097535/6e60d47a-9529-11ea-aa96-0a467be7c4b3/file/2020-
 05-20 UP Workshop (002).pdf
END:VEVENT
END:VCALENDAR
