BEGIN:VCALENDAR
VERSION:2.0
PRODID:SchoolNow
CALSCALE:GREGORIAN
BEGIN:VEVENT
UID:c442eaaa-054f-11ea-bfc0-0af9308a8cf1
DTSTAMP:20200603T130421Z
SUMMARY:CDD Board Workshop - Jun. 2020
LOCATION:Meeting ID: 851 5718 3624 Meeting URL: https://us02web.zoom.us/j/8
 5157183624 Zoom Call in Number: (929) 205-6099
URL;VALUE=URI:http://university-place-cdd.cdd-inf-university-place.campussu
 ite.site/calendar/2143412/cdd-board-workshop-jun-2020
DTSTART:20200610T193000Z
DTEND:20200610T203000Z
ATTACH;FILENAME=2020-06-10 UP Workshop.pdf;FMTTYPE=application/pdf:https://
 campussuite-storage.s3.amazonaws.com/prod/1558957/0d729704-f059-11e9-93b6-
 12606da399aa/2106767/b7ab8a72-a59a-11ea-be64-121e6336a161/file/2020-06-10 
 UP Workshop.pdf
END:VEVENT
END:VCALENDAR
