BEGIN:VCALENDAR
VERSION:2.0
PRODID:SchoolNow
CALSCALE:GREGORIAN
BEGIN:VEVENT
UID:d3182bc6-054f-11ea-bdac-0af9308a8cf1
DTSTAMP:20200713T193149Z
SUMMARY:CDD Board Workshop - Jul. 2020
LOCATION:ZOOM Meeting Meeting ID: 882 0867 5057 Meeting URL: https://us02we
 b.zoom.us/j/88208675057 Call in number: (929) 205-6099
URL;VALUE=URI:http://university-place-cdd.cdd-inf-university-place.campussu
 ite.site/calendar/2143413/cdd-board-workshop-jul-2020
DTSTART:20200715T193000Z
DTEND:20200715T203000Z
ATTACH;FILENAME=2020-07-15 UP Workshop.pdf;FMTTYPE=application/pdf:https://
 campussuite-storage.s3.amazonaws.com/prod/1558957/0d729704-f059-11e9-93b6-
 12606da399aa/2128722/7b5a74e2-c53f-11ea-ab6c-122efc1fdee5/file/2020-07-15 
 UP Workshop.pdf
END:VEVENT
END:VCALENDAR
