BEGIN:VCALENDAR
VERSION:2.0
PRODID:SchoolNow
CALSCALE:GREGORIAN
BEGIN:VEVENT
UID:e3274b5a-054f-11ea-9a00-0af9308a8cf1
DTSTAMP:20200812T140327Z
SUMMARY:CDD Board Workshop - Aug. 2020
LOCATION:Meeting ID: 844 7764 9633 Meeting URL:https://us02web.zoom.us/j/84
 477649633 Call in number: (929) 205-6099
URL;VALUE=URI:http://university-place-cdd.cdd-inf-university-place.campussu
 ite.site/calendar/2143414/cdd-board-workshop-aug-2020
DTSTART:20200819T193000Z
DTEND:20200819T203000Z
ATTACH;FILENAME=2020-08-19 UP Workshop.pdf;FMTTYPE=application/pdf:https://
 campussuite-storage.s3.amazonaws.com/prod/1558957/0d729704-f059-11e9-93b6-
 12606da399aa/2143411/8b2bc0d4-dca4-11ea-9efc-127f48c8fab3/file/2020-08-19 
 UP Workshop.pdf
END:VEVENT
END:VCALENDAR
