BEGIN:VCALENDAR
VERSION:2.0
PRODID:SchoolNow
CALSCALE:GREGORIAN
BEGIN:VEVENT
UID:f1b1501c-054f-11ea-b5b5-0af9308a8cf1
DTSTAMP:20200909T133131Z
SUMMARY:CDD Board Workshop - Sep. 2020
LOCATION:Meeting ID: 837 8103 8554 Meeting URL: https://us02web.zoom.us/j/8
 3781038554 Call in number: (929) 436-2866
URL;VALUE=URI:http://university-place-cdd.cdd-inf-university-place.campussu
 ite.site/calendar/2143415/cdd-board-workshop-sep-2020
DTSTART:20200916T193000Z
DTEND:20200916T203000Z
ATTACH;FILENAME=2020-09-16 UP Workshop.pdf;FMTTYPE=application/pdf:https://
 campussuite-storage.s3.amazonaws.com/prod/1558957/0d729704-f059-11e9-93b6-
 12606da399aa/2156457/9c176738-f2a0-11ea-b43f-12d211559d81/file/2020-09-16 
 UP Workshop.pdf
END:VEVENT
END:VCALENDAR
