BEGIN:VCALENDAR
VERSION:2.0
PRODID:SchoolNow
CALSCALE:GREGORIAN
BEGIN:VEVENT
UID:be54a0b0-ffbe-11ea-9852-0af4829fba0d
DTSTAMP:20201021T123317Z
SUMMARY:CDD Board Meeting - Oct. 2020
LOCATION:Meeting ID: 814 0917 4269 Meeting URL: https://us02web.zoom.us/j/8
 1409174269 Password Code: 1234 Call in number: (929) 205-6099
URL;VALUE=URI:http://university-place-cdd.cdd-inf-university-place.campussu
 ite.site/calendar/2388939/cdd-board-meeting-oct-2020
DTSTART:20201028T203000Z
DTEND:20201028T213000Z
ATTACH;FILENAME=2020-10-28 UP.pdf;FMTTYPE=application/pdf:https://campussui
 te-storage.s3.amazonaws.com/prod/1558957/0d729704-f059-11e9-93b6-12606da39
 9aa/2174435/939cd0b0-1399-11eb-9d6c-1290ebedd9ff/file/2020-10-28 UP.pdf
END:VEVENT
END:VCALENDAR
