BEGIN:VCALENDAR
VERSION:2.0
PRODID:SchoolNow
CALSCALE:GREGORIAN
BEGIN:VEVENT
UID:d3aa121a-ffbe-11ea-adbf-0af4829fba0d
DTSTAMP:20210113T133655Z
SUMMARY:CDD Board Meeting - Dec. 2020
LOCATION:Hampton Inn and Suite by Hilton\, 8565 Cooper Creek Boulevard\, Sa
 rasota\, FL
URL;VALUE=URI:http://university-place-cdd.cdd-inf-university-place.campussu
 ite.site/calendar/2388940/cdd-board-meeting-dec-2020
DTSTART:20201202T213000Z
DTEND:20201202T223000Z
ATTACH;FILENAME=2020-12-02 UP.pdf;FMTTYPE=application/pdf:https://campussui
 te-storage.s3.amazonaws.com/prod/1558957/0d729704-f059-11e9-93b6-12606da39
 9aa/2188828/7846715a-33f5-11eb-88c0-0a55379af67b/file/2020-12-02 UP.pdf
ATTACH;FILENAME=2020-12-02 UP Meeting Summary.pdf;FMTTYPE=application/pdf:h
 ttps://campussuite-storage.s3.amazonaws.com/prod/1558957/0d729704-f059-11e
 9-93b6-12606da399aa/2200085/f6def954-4171-11eb-9dba-0a56d46a730d/file/2020
 -12-02 UP Meeting Summary.pdf
END:VEVENT
END:VCALENDAR
