BEGIN:VCALENDAR
VERSION:2.0
PRODID:SchoolNow
CALSCALE:GREGORIAN
BEGIN:VEVENT
UID:e1e6a3d4-ffbe-11ea-a5f6-0af4829fba0d
DTSTAMP:20210121T030419Z
SUMMARY:CDD Board Meeting - Jan. 2021
LOCATION:Hampton Inn & Suites Sarasota/Lakewood Ranch 8565 Cooper Creek Bou
 levard Sarasota\, FL 34201
URL;VALUE=URI:http://university-place-cdd.cdd-inf-university-place.campussu
 ite.site/calendar/2388941/cdd-board-meeting-jan-2021
DTSTART:20210127T213000Z
DTEND:20210127T223000Z
ATTACH;FILENAME=2021-01-27 UP Regular Meeting Agenda.pdf;FMTTYPE=applicatio
 n/pdf:https://campussuite-storage.s3.amazonaws.com/prod/1558957/0d729704-f
 059-11e9-93b6-12606da399aa/2217319/308659b2-5b95-11eb-a177-0e56a03daefd/fi
 le/2021-01-27 UP Regular Meeting Agenda.pdf
END:VEVENT
END:VCALENDAR
