BEGIN:VCALENDAR
VERSION:2.0
PRODID:SchoolNow
CALSCALE:GREGORIAN
BEGIN:VEVENT
UID:ee0d6e04-ffbe-11ea-9831-0af4829fba0d
DTSTAMP:20210217T141704Z
SUMMARY:CDD Board Meeting - Feb. 2021
LOCATION:Hampton Inn & Suites Sarasota/Lakewood Ranch 8565 Cooper Creek Bou
 levard Sarasota\, FL 34201
URL;VALUE=URI:http://university-place-cdd.cdd-inf-university-place.campussu
 ite.site/calendar/2388942/cdd-board-meeting-feb-2021
DTSTART:20210224T213000Z
DTEND:20210224T223000Z
ATTACH;FILENAME=2021-02-24 UP.pdf;FMTTYPE=application/pdf:https://campussui
 te-storage.s3.amazonaws.com/prod/1558957/0d729704-f059-11e9-93b6-12606da39
 9aa/2227781/cacdeada-712a-11eb-be26-02f7c89ef8c9/file/2021-02-24 UP.pdf
END:VEVENT
END:VCALENDAR
