BEGIN:VCALENDAR
VERSION:2.0
PRODID:SchoolNow
CALSCALE:GREGORIAN
BEGIN:VEVENT
UID:02a8e73a-ffbf-11ea-8f00-0af4829fba0d
DTSTAMP:20210422T000301Z
SUMMARY:CDD Board Meeting - Apr. 2021
LOCATION:Courtyard by Marriot Sarasota/Lakewood Ranch 8305 Tourist Center D
 rive Bradenton\, FL 34201
URL;VALUE=URI:http://university-place-cdd.cdd-inf-university-place.campussu
 ite.site/calendar/2388943/cdd-board-meeting-apr-2021
DTSTART:20210428T203000Z
DTEND:20210428T213000Z
ATTACH;FILENAME=2021-04-28 UP Regular Meeting Agenda.pdf;FMTTYPE=applicatio
 n/pdf:https://campussuite-storage.s3.amazonaws.com/prod/1558957/0d729704-f
 059-11e9-93b6-12606da399aa/2254643/fb643eac-a2fc-11eb-b980-0e8ff19c0a85/fi
 le/2021-04-28 UP Regular Meeting Agenda.pdf
END:VEVENT
END:VCALENDAR
