BEGIN:VCALENDAR
VERSION:2.0
PRODID:SchoolNow
CALSCALE:GREGORIAN
BEGIN:VEVENT
UID:11c5a816-ffbf-11ea-b97d-0af4829fba0d
DTSTAMP:20210519T154103Z
SUMMARY:CDD Board Meeting - May 2021
LOCATION:Hyatt Place Sarasota/Lakewood Ranch 6021 Exchange Way Lakewood Ran
 ch\, FL
URL;VALUE=URI:http://university-place-cdd.cdd-inf-university-place.campussu
 ite.site/calendar/2388944/cdd-board-meeting-may-2021
DTSTART:20210526T203000Z
DTEND:20210526T213000Z
ATTACH;FILENAME=2021-05-26 UP.pdf;FMTTYPE=application/pdf:https://campussui
 te-storage.s3.amazonaws.com/prod/1558957/0d729704-f059-11e9-93b6-12606da39
 9aa/2265842/8d850dfe-b8b8-11eb-8f2b-02ec16cc218b/file/2021-05-26 UP.pdf
END:VEVENT
END:VCALENDAR
