BEGIN:VCALENDAR
VERSION:2.0
PRODID:SchoolNow
CALSCALE:GREGORIAN
BEGIN:VEVENT
UID:1b694350-ffbf-11ea-a401-0af4829fba0d
DTSTAMP:20210616T171934Z
SUMMARY:CDD Board Meeting - Jun. 2021
LOCATION:Courtyard by Marriot Sarasota/Lakewood Ranch  8305 Tourist Center 
 Drive  Bradenton\, FL
URL;VALUE=URI:http://university-place-cdd.cdd-inf-university-place.campussu
 ite.site/calendar/2388945/cdd-board-meeting-jun-2021
DTSTART:20210623T203000Z
DTEND:20210623T213000Z
ATTACH;FILENAME=2021-06-23 UP.pdf;FMTTYPE=application/pdf:https://campussui
 te-storage.s3.amazonaws.com/prod/1558957/0d729704-f059-11e9-93b6-12606da39
 9aa/2280358/befbac1c-cec5-11eb-86dc-02f2b823f437/file/2021-06-23 UP.pdf
END:VEVENT
END:VCALENDAR
