BEGIN:VCALENDAR
VERSION:2.0
PRODID:SchoolNow
CALSCALE:GREGORIAN
BEGIN:VEVENT
UID:54360240-ffbf-11ea-8ff6-124991cb02c7
DTSTAMP:20210818T153117Z
SUMMARY:CDD Board Meeting - Aug. 2021
LOCATION:Hampton Inn and Suite by Hilton\, 8565 Cooper Creek Boulevard\, Sa
 rasota\, FL 34201
URL;VALUE=URI:http://university-place-cdd.cdd-inf-university-place.campussu
 ite.site/calendar/2388946/cdd-board-meeting-aug-2021
DTSTART:20210825T223000Z
DTEND:20210825T233000Z
ATTACH;FILENAME=2021-08-25 UP.pdf;FMTTYPE=application/pdf:https://campussui
 te-storage.s3.amazonaws.com/prod/1558957/0d729704-f059-11e9-93b6-12606da39
 9aa/2303060/507c26d6-0039-11ec-a3f0-0ea889b34639/file/2021-08-25 UP.pdf
END:VEVENT
END:VCALENDAR
