BEGIN:VCALENDAR
VERSION:2.0
PRODID:SchoolNow
CALSCALE:GREGORIAN
BEGIN:VEVENT
UID:8ec340c6-ffbf-11ea-94e6-0a164db8b7cb
DTSTAMP:20210917T005400Z
SUMMARY:CDD Board Meeting - Sep. 2021
URL;VALUE=URI:http://university-place-cdd.cdd-inf-university-place.campussu
 ite.site/calendar/2388947/cdd-board-meeting-sep-2021
DTSTART:20210922T203000Z
DTEND:20210922T213000Z
ATTACH;FILENAME=2021-09-22 UP Agenda v2.pdf;FMTTYPE=application/pdf:https:/
 /campussuite-storage.s3.amazonaws.com/prod/1558957/0d729704-f059-11e9-93b6
 -12606da399aa/2316569/ab92684e-1751-11ec-b10a-0ee33778d699/file/2021-09-22
  UP Agenda v2.pdf
END:VEVENT
END:VCALENDAR
