BEGIN:VCALENDAR
VERSION:2.0
PRODID:SchoolNow
CALSCALE:GREGORIAN
BEGIN:VEVENT
UID:c3c61ef6-ffbf-11ea-996d-0a164db8b7cb
DTSTAMP:20201014T161958Z
SUMMARY:CDD Board Workshop - Oct. 2020
LOCATION:Meeting ID: 811 8549 9959  Pass Code: 781041  Meeting URL: https:/
 /us02web.zoom.us/j/81185499959 Call in number: (929) 205-6099
URL;VALUE=URI:http://university-place-cdd.cdd-inf-university-place.campussu
 ite.site/calendar/2388948/cdd-board-workshop-oct-2020
DTSTART:20201021T203000Z
DTEND:20201021T213000Z
ATTACH;FILENAME=2020-10-21 UP Workshop.pdf;FMTTYPE=application/pdf:https://
 campussuite-storage.s3.amazonaws.com/prod/1558957/0d729704-f059-11e9-93b6-
 12606da399aa/2171539/16207ee4-0e39-11eb-b024-1213f3315983/file/2020-10-21 
 UP Workshop.pdf
END:VEVENT
END:VCALENDAR
