BEGIN:VCALENDAR
VERSION:2.0
PRODID:SchoolNow
CALSCALE:GREGORIAN
BEGIN:VEVENT
UID:30bfa09a-ffc0-11ea-b775-124991cb02c7
DTSTAMP:20201111T130130Z
SUMMARY:CDD Board Workshop - Nov. 2020
LOCATION:Hampton Inn and Suite by Hilton\, 8565 Cooper Creek Boulevard\, Sa
 rasota\, FL
URL;VALUE=URI:http://university-place-cdd.cdd-inf-university-place.campussu
 ite.site/calendar/2388949/cdd-board-workshop-nov-2020
DTSTART:20201118T213000Z
DTEND:20201118T223000Z
ATTACH;FILENAME=2020-11-18 UP Workshop.pdf;FMTTYPE=application/pdf:https://
 campussuite-storage.s3.amazonaws.com/prod/1558957/0d729704-f059-11e9-93b6-
 12606da399aa/2183014/f1ad4632-241d-11eb-9aa2-0a2c95d0af3b/file/2020-11-18 
 UP Workshop.pdf
END:VEVENT
END:VCALENDAR
