BEGIN:VCALENDAR
VERSION:2.0
PRODID:SchoolNow
CALSCALE:GREGORIAN
BEGIN:VEVENT
UID:3e05d864-ffc0-11ea-8b61-124991cb02c7
DTSTAMP:20210113T133448Z
SUMMARY:CDD Board Workshop - Jan. 2021
LOCATION:Hampton Inn & Suites Sarasota/Lakewood Ranch 8565 Cooper Creek Bou
 levard Sarasota\, FL 34201
URL;VALUE=URI:http://university-place-cdd.cdd-inf-university-place.campussu
 ite.site/calendar/2388950/cdd-board-workshop-jan-2021
DTSTART:20210120T213000Z
DTEND:20210120T223000Z
ATTACH;FILENAME=2021-01-20 UP Workshop.pdf;FMTTYPE=application/pdf:https://
 campussuite-storage.s3.amazonaws.com/prod/1558957/0d729704-f059-11e9-93b6-
 12606da399aa/2214366/0ab57630-55a2-11eb-bdef-0a8cd17294c9/file/2021-01-20 
 UP Workshop.pdf
END:VEVENT
END:VCALENDAR
