BEGIN:VCALENDAR
VERSION:2.0
PRODID:SchoolNow
CALSCALE:GREGORIAN
BEGIN:VEVENT
UID:4b170e1a-ffc0-11ea-ba1b-124991cb02c7
DTSTAMP:20210210T161737Z
SUMMARY:CDD Board Workshop - Feb. 2021
LOCATION:Charlestown Community Room\, 7804 Charleston Street
URL;VALUE=URI:http://university-place-cdd.cdd-inf-university-place.campussu
 ite.site/calendar/2388951/cdd-board-workshop-feb-2021
DTSTART:20210217T213000Z
DTEND:20210217T223000Z
ATTACH;FILENAME=2021-02-17 UP Workshop.pdf;FMTTYPE=application/pdf:https://
 campussuite-storage.s3.amazonaws.com/prod/1558957/0d729704-f059-11e9-93b6-
 12606da399aa/2225250/f11777b0-6bad-11eb-bf4d-0eb30413cca3/file/2021-02-17 
 UP Workshop.pdf
END:VEVENT
END:VCALENDAR
