BEGIN:VCALENDAR
VERSION:2.0
PRODID:SchoolNow
CALSCALE:GREGORIAN
BEGIN:VEVENT
UID:56edcbf2-ffc0-11ea-afcc-124991cb02c7
DTSTAMP:20210310T143421Z
SUMMARY:CDD Board Workshop - Mar. 2021
LOCATION:Community Room\, Northern Trust\, 6320 Venture Drive\, Lakewood Ra
 nch\, Florida 342020
URL;VALUE=URI:http://university-place-cdd.cdd-inf-university-place.campussu
 ite.site/calendar/2388952/cdd-board-workshop-mar-2021
DTSTART:20210317T203000Z
DTEND:20210317T213000Z
ATTACH;FILENAME=2021-03-17 UP Workshop.pdf;FMTTYPE=application/pdf:https://
 campussuite-storage.s3.amazonaws.com/prod/1558957/0d729704-f059-11e9-93b6-
 12606da399aa/2237398/b0cdda08-81ad-11eb-b6a2-0a073cb36007/file/2021-03-17 
 UP Workshop.pdf
END:VEVENT
END:VCALENDAR
