BEGIN:VCALENDAR
VERSION:2.0
PRODID:SchoolNow
CALSCALE:GREGORIAN
BEGIN:VEVENT
UID:5fed42e6-ffc0-11ea-9e30-124991cb02c7
DTSTAMP:20210414T121401Z
SUMMARY:CDD Board Workshop - Apr. 2021
LOCATION:Community Room\, 7805 Charleston St. Bradenton 34201
URL;VALUE=URI:http://university-place-cdd.cdd-inf-university-place.campussu
 ite.site/calendar/2388953/cdd-board-workshop-apr-2021
DTSTART:20210421T203000Z
DTEND:20210421T213000Z
ATTACH;FILENAME=2021-04-21 UP Workshop.pdf;FMTTYPE=application/pdf:https://
 campussuite-storage.s3.amazonaws.com/prod/1558957/0d729704-f059-11e9-93b6-
 12606da399aa/2251967/e2962062-9d1a-11eb-b264-025a70d660ed/file/2021-04-21 
 UP Workshop.pdf
END:VEVENT
END:VCALENDAR
