BEGIN:VCALENDAR
VERSION:2.0
PRODID:SchoolNow
CALSCALE:GREGORIAN
BEGIN:VEVENT
UID:6d11fea8-ffc0-11ea-b309-124991cb02c7
DTSTAMP:20210512T133341Z
SUMMARY:CDD Board Workshop - May 2021
LOCATION:Community Room\, 7805 Charleston St.  Bradenton\, FL 34201
URL;VALUE=URI:http://university-place-cdd.cdd-inf-university-place.campussu
 ite.site/calendar/2388954/cdd-board-workshop-may-2021
DTSTART:20210519T203000Z
DTEND:20210519T213000Z
ATTACH;FILENAME=2021-05-19 UP Workshop.pdf;FMTTYPE=application/pdf:https://
 campussuite-storage.s3.amazonaws.com/prod/1558957/0d729704-f059-11e9-93b6-
 12606da399aa/2262414/e1a7d3a6-b324-11eb-af87-023c0297d36d/file/2021-05-19 
 UP Workshop.pdf
END:VEVENT
END:VCALENDAR
