BEGIN:VCALENDAR
VERSION:2.0
PRODID:SchoolNow
CALSCALE:GREGORIAN
BEGIN:VEVENT
UID:791e33c4-ffc0-11ea-a4a5-124991cb02c7
DTSTAMP:20210609T121322Z
SUMMARY:CDD Board Workshop - Jun. 2021
LOCATION:Community Room\, Northern Trust\, 6320 Venture Drive\, Lakewood Ra
 nch\, Florida 342020
URL;VALUE=URI:http://university-place-cdd.cdd-inf-university-place.campussu
 ite.site/calendar/2388955/cdd-board-workshop-jun-2021
DTSTART:20210616T203000Z
DTEND:20210616T213000Z
ATTACH;FILENAME=2021-06-16 UP Workshop.pdf;FMTTYPE=application/pdf:https://
 campussuite-storage.s3.amazonaws.com/prod/1558957/0d729704-f059-11e9-93b6-
 12606da399aa/2276784/0bc4481a-c91c-11eb-a92e-0e9e8dd162af/file/2021-06-16 
 UP Workshop.pdf
END:VEVENT
END:VCALENDAR
