BEGIN:VCALENDAR
VERSION:2.0
PRODID:SchoolNow
CALSCALE:GREGORIAN
BEGIN:VEVENT
UID:89303870-ffc0-11ea-8cac-124991cb02c7
DTSTAMP:20210714T120853Z
SUMMARY:CDD Board Workshop - Jul. 2021
LOCATION:Community Room\, 7805 Charleston St\, Bradenton\, FL 34201.
URL;VALUE=URI:http://university-place-cdd.cdd-inf-university-place.campussu
 ite.site/calendar/2388956/cdd-board-workshop-jul-2021
DTSTART:20210721T203000Z
DTEND:20210721T213000Z
ATTACH;FILENAME=2021-07-21 UP Workshop.pdf;FMTTYPE=application/pdf:https://
 campussuite-storage.s3.amazonaws.com/prod/1558957/0d729704-f059-11e9-93b6-
 12606da399aa/2290983/3f164b64-e49c-11eb-aeb5-0ece9c711b5f/file/2021-07-21 
 UP Workshop.pdf
END:VEVENT
END:VCALENDAR
