BEGIN:VCALENDAR
VERSION:2.0
PRODID:SchoolNow
CALSCALE:GREGORIAN
BEGIN:VEVENT
UID:93a368d6-ffc0-11ea-b61d-124991cb02c7
DTSTAMP:20210811T161136Z
SUMMARY:CDD Board Workshop - Aug. 2021
LOCATION:Community Room\,  7805 Charleston St\,  Bradenton\, FL 34201
URL;VALUE=URI:http://university-place-cdd.cdd-inf-university-place.campussu
 ite.site/calendar/2388957/cdd-board-workshop-aug-2021
DTSTART:20210818T203000Z
DTEND:20210818T213000Z
ATTACH;FILENAME=2021-08-18 UP Workshop.pdf;FMTTYPE=application/pdf:https://
 campussuite-storage.s3.amazonaws.com/prod/1558957/0d729704-f059-11e9-93b6-
 12606da399aa/2300696/c93884fa-fabe-11eb-a02e-02c4b009cf2b/file/2021-08-18 
 UP Workshop.pdf
END:VEVENT
END:VCALENDAR
