BEGIN:VCALENDAR
VERSION:2.0
PRODID:SchoolNow
CALSCALE:GREGORIAN
BEGIN:VEVENT
UID:9eab8696-ffc0-11ea-a967-124991cb02c7
DTSTAMP:20210909T001648Z
SUMMARY:CDD Board Workshop - Sep. 2021
LOCATION:Community Room\,  7805 Charleston St\,  Bradenton\, FL 34201
URL;VALUE=URI:http://university-place-cdd.cdd-inf-university-place.campussu
 ite.site/calendar/2388958/cdd-board-workshop-sep-2021
DTSTART:20210915T203000Z
DTEND:20210915T213000Z
ATTACH;FILENAME=2021-09-15 UP Workshop Meeting Agenda.pdf;FMTTYPE=applicati
 on/pdf:https://campussuite-storage.s3.amazonaws.com/prod/1558957/0d729704-
 f059-11e9-93b6-12606da399aa/2312798/27c5da72-1103-11ec-afec-0aacf78328df/f
 ile/2021-09-15 UP Workshop Meeting Agenda.pdf
END:VEVENT
END:VCALENDAR
