BEGIN:VCALENDAR
VERSION:2.0
PRODID:SchoolNow
CALSCALE:GREGORIAN
BEGIN:VEVENT
UID:f2df2ade-0b99-11ec-9892-0e2b5f74362d
DTSTAMP:20211022T180837Z
SUMMARY:CDD Board Meeting - Oct. 2021
LOCATION:Hampton Inn and Suite by Hilton\, 8565 Cooper Creek Boulevard\, Sa
 rasota\, FL 34201
URL;VALUE=URI:http://university-place-cdd.cdd-inf-university-place.campussu
 ite.site/calendar/2699768/cdd-board-meeting-oct-2021
DTSTART:20211027T203000Z
DTEND:20211027T213000Z
ATTACH;FILENAME=2021-10-27 UP Agenda.pdf;FMTTYPE=application/pdf:https://ca
 mpussuite-storage.s3.amazonaws.com/prod/1558957/0d729704-f059-11e9-93b6-12
 606da399aa/2332315/4a783b4e-31b7-11ec-b99f-0a43d831baab/file/2021-10-27 UP
  Agenda.pdf
END:VEVENT
END:VCALENDAR
