BEGIN:VCALENDAR
VERSION:2.0
PRODID:SchoolNow
CALSCALE:GREGORIAN
BEGIN:VEVENT
UID:101b2f58-0b9a-11ec-a20a-0e2b5f74362d
DTSTAMP:20211124T134716Z
SUMMARY:CDD Board Meeting - Dec. 2021
LOCATION:Hampton Inn and Suite by Hilton\, 8565 Cooper Creek Boulevard\, Sa
 rasota\, FL 34201
URL;VALUE=URI:http://university-place-cdd.cdd-inf-university-place.campussu
 ite.site/calendar/2699769/cdd-board-meeting-dec-2021
DTSTART:20211201T213000Z
DTEND:20211201T223000Z
ATTACH;FILENAME=2021-12-01 UP Agenda.pdf;FMTTYPE=application/pdf:https://ca
 mpussuite-storage.s3.amazonaws.com/prod/1558957/0d729704-f059-11e9-93b6-12
 606da399aa/2348061/06c7f006-4d2d-11ec-ab8b-0e60a8ae0e75/file/2021-12-01 UP
  Agenda.pdf
END:VEVENT
END:VCALENDAR
