BEGIN:VCALENDAR
VERSION:2.0
PRODID:SchoolNow
CALSCALE:GREGORIAN
BEGIN:VEVENT
UID:905f2be2-0b9a-11ec-9eb5-0e2b5f74362d
DTSTAMP:20211013T142123Z
SUMMARY:CDD Board Workshop - Oct. 2021
LOCATION:Community Room\,  7805 Charleston St\,  Bradenton\, FL 34201
URL;VALUE=URI:http://university-place-cdd.cdd-inf-university-place.campussu
 ite.site/calendar/2699777/cdd-board-workshop-oct-2021
DTSTART:20211020T203000Z
DTEND:20211020T213000Z
ATTACH;FILENAME=2021-10-20 UP Workshop.pdf;FMTTYPE=application/pdf:https://
 campussuite-storage.s3.amazonaws.com/prod/1558957/0d729704-f059-11e9-93b6-
 12606da399aa/2328541/d4efa2bc-2c30-11ec-bea1-021fd44bbbe3/file/2021-10-20 
 UP Workshop.pdf
END:VEVENT
END:VCALENDAR
