BEGIN:VCALENDAR
VERSION:2.0
PRODID:SchoolNow
CALSCALE:GREGORIAN
BEGIN:VEVENT
UID:9ca30be4-0b9a-11ec-a319-0e2b5f74362d
DTSTAMP:20211110T130451Z
SUMMARY:CDD Board Workshop - Nov. 2021
LOCATION:Community Room\,  7805 Charleston St\,  Bradenton\, FL 34201
URL;VALUE=URI:http://university-place-cdd.cdd-inf-university-place.campussu
 ite.site/calendar/2699778/cdd-board-workshop-nov-2021
DTSTART:20211117T213000Z
DTEND:20211117T223000Z
ATTACH;FILENAME=2021-11-17 UP Workshop.pdf;FMTTYPE=application/pdf:https://
 campussuite-storage.s3.amazonaws.com/prod/1558957/0d729704-f059-11e9-93b6-
 12606da399aa/2342712/c2516076-4226-11ec-8aa6-0aeb1f0ba209/file/2021-11-17 
 UP Workshop.pdf
END:VEVENT
END:VCALENDAR
