BEGIN:VCALENDAR
VERSION:2.0
PRODID:SchoolNow
CALSCALE:GREGORIAN
BEGIN:VEVENT
UID:a8da91f2-0b9a-11ec-b556-0e2b5f74362d
DTSTAMP:20220112T180023Z
SUMMARY:CDD Board Workshop - Jan. 2022
LOCATION:Community Room\,  7805 Charleston St\,  Bradenton\, FL 34201
URL;VALUE=URI:http://university-place-cdd.cdd-inf-university-place.campussu
 ite.site/calendar/2699779/cdd-board-workshop-jan-2022
DTSTART:20220119T213000Z
DTEND:20220119T223000Z
ATTACH;FILENAME=2022-01-19 UP Workshop.pdf;FMTTYPE=application/pdf:https://
 campussuite-storage.s3.amazonaws.com/prod/1558957/0d729704-f059-11e9-93b6-
 12606da399aa/2362612/502c7058-73d1-11ec-9713-0acdde0ed3c1/file/2022-01-19 
 UP Workshop.pdf
END:VEVENT
END:VCALENDAR
